Package: ctsGE Version: 1.33.0 Command: /home/biocbuild/bbs-3.21-bioc/R/bin/R CMD check --install=check:ctsGE.install-out.txt --library=/home/biocbuild/bbs-3.21-bioc/R/site-library --timings ctsGE_1.33.0.tar.gz StartedAt: 2025-02-19 21:15:45 -0500 (Wed, 19 Feb 2025) EndedAt: 2025-02-19 21:16:43 -0500 (Wed, 19 Feb 2025) EllapsedTime: 58.1 seconds RetCode: 0 Status: OK CheckDir: ctsGE.Rcheck Warnings: 0