Package: ctsGE Version: 1.33.0 Command: /Library/Frameworks/R.framework/Resources/bin/R CMD INSTALL ctsGE StartedAt: 2025-02-19 15:23:55 -0500 (Wed, 19 Feb 2025) EndedAt: 2025-02-19 15:24:05 -0500 (Wed, 19 Feb 2025) EllapsedTime: 10.0 seconds RetCode: 0 Status: OK