Package: ctsGE
Version: 1.33.0
Command: /Library/Frameworks/R.framework/Resources/bin/R CMD check --install=check:ctsGE.install-out.txt --library=/Library/Frameworks/R.framework/Resources/library --no-vignettes --timings ctsGE_1.33.0.tar.gz
StartedAt: 2025-02-19 19:46:48 -0500 (Wed, 19 Feb 2025)
EndedAt: 2025-02-19 19:47:48 -0500 (Wed, 19 Feb 2025)
EllapsedTime: 60.8 seconds
RetCode: 0
Status: OK
CheckDir: ctsGE.Rcheck
Warnings: 0