Package: ctsGE Version: 1.33.0 Command: /Library/Frameworks/R.framework/Resources/bin/R CMD build --keep-empty-dirs --no-resave-data ctsGE StartedAt: 2025-02-19 16:22:48 -0500 (Wed, 19 Feb 2025) EndedAt: 2025-02-19 16:23:11 -0500 (Wed, 19 Feb 2025) EllapsedTime: 22.8 seconds RetCode: 0 Status: OK PackageFile: ctsGE_1.33.0.tar.gz PackageFileSize: 1.132 <A href="http://en.wikipedia.org/wiki/MiB" target="_blank">MiB</A>