Package: ctsGE
Version: 1.33.0
Command: rm -rf ctsGE.buildbin-libdir && mkdir ctsGE.buildbin-libdir && /Users/biocbuild/BBS/utils/build-universal.sh ctsGE_1.33.0.tar.gz /Library/Frameworks/R.framework/Resources/bin/R ctsGE.buildbin-libdir
StartedAt: 2025-02-20 00:27:36 -0500 (Thu, 20 Feb 2025)
EndedAt: 2025-02-20 00:27:47 -0500 (Thu, 20 Feb 2025)
EllapsedTime: 10.4 seconds
RetCode: 0
Status: OK
PackageFile: ctsGE_1.33.0.tgz
PackageFileSize: 1.168 <A href="http://en.wikipedia.org/wiki/MiB" target="_blank">MiB</A>