Package: ctsGE Version: 1.33.0 Maintainer: Michal Sharabi-Schwager MaintainerEmail: michalsharabi at gmail.com git_url: https://git.bioconductor.org/packages/ctsGE git_branch: devel git_last_commit: ae475ee git_last_commit_date: 2024-10-29 10:12:51 -0500 (Tue, 29 Oct 2024)