Package: crisprBwa Version: 1.11.0 Command: /Library/Frameworks/R.framework/Resources/bin/R CMD INSTALL crisprBwa StartedAt: 2025-01-31 15:27:18 -0500 (Fri, 31 Jan 2025) EndedAt: 2025-01-31 15:27:59 -0500 (Fri, 31 Jan 2025) EllapsedTime: 41.0 seconds RetCode: 0 Status: OK