Package: crisprBwa Version: 1.11.0 Command: /Library/Frameworks/R.framework/Resources/bin/R CMD build --keep-empty-dirs --no-resave-data crisprBwa StartedAt: 2025-01-31 16:23:26 -0500 (Fri, 31 Jan 2025) EndedAt: 2025-01-31 16:24:12 -0500 (Fri, 31 Jan 2025) EllapsedTime: 46.8 seconds RetCode: 0 Status: OK PackageFile: crisprBwa_1.11.0.tar.gz PackageFileSize: 359.6 KiB