Package: consensusOV
Version: 1.29.0
Command: /home/biocbuild/R/R/bin/R CMD INSTALL consensusOV
StartedAt: 2025-01-29 20:36:27 -0000 (Wed, 29 Jan 2025)
EndedAt: 2025-01-29 20:37:37 -0000 (Wed, 29 Jan 2025)
EllapsedTime: 70.4 seconds
RetCode: 0
Status: OK