Package: consensusOV
Version: 1.29.0
Command: /home/biocbuild/R/R/bin/R CMD check --install=check:consensusOV.install-out.txt --library=/home/biocbuild/R/R/site-library --no-vignettes --timings consensusOV_1.29.0.tar.gz
StartedAt: 2025-01-28 09:26:29 -0000 (Tue, 28 Jan 2025)
EndedAt: 2025-01-28 09:33:18 -0000 (Tue, 28 Jan 2025)
EllapsedTime: 408.3 seconds
RetCode: 0
Status: OK
CheckDir: consensusOV.Rcheck
Warnings: 0