Package: consensusOV
Version: 1.29.0
Command: /home/biocbuild/R/R/bin/R CMD build --keep-empty-dirs --no-resave-data consensusOV
StartedAt: 2025-01-28 22:05:23 -0000 (Tue, 28 Jan 2025)
EndedAt: 2025-01-28 22:08:18 -0000 (Tue, 28 Jan 2025)
EllapsedTime: 175.1 seconds
RetCode: 0
Status: OK
PackageFile: consensusOV_1.29.0.tar.gz
PackageFileSize: 3.226 <A href="http://en.wikipedia.org/wiki/MiB" target="_blank">MiB</A>