Package: consensusOV
Version: 1.29.0
Command: /Library/Frameworks/R.framework/Resources/bin/R CMD INSTALL consensusOV
StartedAt: 2025-02-19 15:29:37 -0500 (Wed, 19 Feb 2025)
EndedAt: 2025-02-19 15:30:00 -0500 (Wed, 19 Feb 2025)
EllapsedTime: 22.7 seconds
RetCode: 0
Status: OK