Package: consensusOV
Version: 1.29.0
Command: /Library/Frameworks/R.framework/Resources/bin/R CMD check --install=check:consensusOV.install-out.txt --library=/Library/Frameworks/R.framework/Resources/library --no-vignettes --timings consensusOV_1.29.0.tar.gz
StartedAt: 2025-02-19 18:41:20 -0500 (Wed, 19 Feb 2025)
EndedAt: 2025-02-19 18:43:37 -0500 (Wed, 19 Feb 2025)
EllapsedTime: 137.7 seconds
RetCode: 0
Status: OK
CheckDir: consensusOV.Rcheck
Warnings: 0