Package: consensusOV Version: 1.29.0 Command: /Library/Frameworks/R.framework/Resources/bin/R CMD build --keep-empty-dirs --no-resave-data consensusOV StartedAt: 2025-02-19 15:59:18 -0500 (Wed, 19 Feb 2025) EndedAt: 2025-02-19 16:00:20 -0500 (Wed, 19 Feb 2025) EllapsedTime: 62.7 seconds RetCode: 0 Status: OK PackageFile: consensusOV_1.29.0.tar.gz PackageFileSize: 3.21 <A href="http://en.wikipedia.org/wiki/MiB" target="_blank">MiB</A>