Package: consensusOV Version: 1.29.0 Command: rm -rf consensusOV.buildbin-libdir && mkdir consensusOV.buildbin-libdir && /Users/biocbuild/BBS/utils/build-universal.sh consensusOV_1.29.0.tar.gz /Library/Frameworks/R.framework/Resources/bin/R consensusOV.buildbin-libdir StartedAt: 2025-02-19 22:17:56 -0500 (Wed, 19 Feb 2025) EndedAt: 2025-02-19 22:18:21 -0500 (Wed, 19 Feb 2025) EllapsedTime: 24.5 seconds RetCode: 0 Status: OK PackageFile: consensusOV_1.29.0.tgz PackageFileSize: 4.524 <A href="http://en.wikipedia.org/wiki/MiB" target="_blank">MiB</A>