Package: consensus Version: 1.25.0 Command: chmod a+r consensus -R && E:\biocbuild\bbs-3.21-bioc\R\bin\R.exe CMD build --keep-empty-dirs --no-resave-data consensus StartedAt: 2025-02-19 18:03:46 -0500 (Wed, 19 Feb 2025) EndedAt: 2025-02-19 18:04:15 -0500 (Wed, 19 Feb 2025) EllapsedTime: 29.7 seconds RetCode: 0 Status: OK PackageFile: consensus_1.25.0.tar.gz PackageFileSize: 972.2 <A href="http://en.wikipedia.org/wiki/KiB" target="_blank">KiB</A>