Package: consensus Version: 1.25.0 Command: rm -rf consensus.buildbin-libdir && mkdir consensus.buildbin-libdir && E:\biocbuild\bbs-3.21-bioc\R\bin\R.exe CMD INSTALL --build --library=consensus.buildbin-libdir consensus_1.25.0.tar.gz StartedAt: 2025-02-20 07:32:55 -0500 (Thu, 20 Feb 2025) EndedAt: 2025-02-20 07:33:11 -0500 (Thu, 20 Feb 2025) EllapsedTime: 16.1 seconds RetCode: 0 Status: OK PackageFile: consensus_1.25.0.zip PackageFileSize: 1.101 <A href="http://en.wikipedia.org/wiki/MiB" target="_blank">MiB</A>