Package: consensus
Version: 1.25.0
Command: /home/biocbuild/bbs-3.21-bioc/R/bin/R CMD build --keep-empty-dirs --no-resave-data consensus
StartedAt: 2025-02-19 16:45:43 -0500 (Wed, 19 Feb 2025)
EndedAt: 2025-02-19 16:45:50 -0500 (Wed, 19 Feb 2025)
EllapsedTime: 7.0 seconds
RetCode: 0
Status: OK
PackageFile: consensus_1.25.0.tar.gz
PackageFileSize: 970.9 <A href="http://en.wikipedia.org/wiki/KiB" target="_blank">KiB</A>