Package: consensus
Version: 1.25.0
Command: /Library/Frameworks/R.framework/Resources/bin/R CMD check --install=check:consensus.install-out.txt --library=/Library/Frameworks/R.framework/Resources/library --no-vignettes --timings consensus_1.25.0.tar.gz
StartedAt: 2025-02-19 19:39:42 -0500 (Wed, 19 Feb 2025)
EndedAt: 2025-02-19 19:40:15 -0500 (Wed, 19 Feb 2025)
EllapsedTime: 33.2 seconds
RetCode: 0
Status: OK
CheckDir: consensus.Rcheck
Warnings: 0