Package: consensus
Version: 1.25.0
Command: /Library/Frameworks/R.framework/Resources/bin/R CMD build --keep-empty-dirs --no-resave-data consensus
StartedAt: 2025-02-19 16:19:16 -0500 (Wed, 19 Feb 2025)
EndedAt: 2025-02-19 16:19:28 -0500 (Wed, 19 Feb 2025)
EllapsedTime: 12.6 seconds
RetCode: 0
Status: OK
PackageFile: consensus_1.25.0.tar.gz
PackageFileSize: 971.1 <A href="http://en.wikipedia.org/wiki/KiB" target="_blank">KiB</A>