Package: consensus
Version: 1.25.0
Command: /home/biocbuild/R/R/bin/R CMD INSTALL consensus
StartedAt: 2025-01-29 19:34:07 -0000 (Wed, 29 Jan 2025)
EndedAt: 2025-01-29 19:34:17 -0000 (Wed, 29 Jan 2025)
EllapsedTime: 10.7 seconds
RetCode: 0
Status: OK