Package: compSPOT Version: 1.5.0 Command: /home/biocbuild/bbs-3.21-bioc/R/bin/R CMD build --keep-empty-dirs --no-resave-data compSPOT StartedAt: 2025-01-31 16:48:20 -0500 (Fri, 31 Jan 2025) EndedAt: 2025-01-31 16:48:40 -0500 (Fri, 31 Jan 2025) EllapsedTime: 20.0 seconds RetCode: 0 Status: OK PackageFile: compSPOT_1.5.0.tar.gz PackageFileSize: 436.6 KiB