Package: compSPOT Version: 1.5.0 Command: /Library/Frameworks/R.framework/Resources/bin/R CMD INSTALL compSPOT StartedAt: 2025-01-31 15:44:32 -0500 (Fri, 31 Jan 2025) EndedAt: 2025-01-31 15:44:39 -0500 (Fri, 31 Jan 2025) EllapsedTime: 7.0 seconds RetCode: 0 Status: OK