Package: cn.farms
Version: 1.55.0
Maintainer: Andreas Mitterecker
MaintainerEmail: mitterecker at ml.jku.at
git_url: https://git.bioconductor.org/packages/cn.farms
git_branch: devel
git_last_commit: 8600141
git_last_commit_date: 2024-10-29 09:36:23 -0500 (Tue, 29 Oct 2024)