Package: clustifyr
Version: 1.19.0
Maintainer: Rui Fu
MaintainerEmail: ray.sinensis at gmail.com
git_url: https://git.bioconductor.org/packages/clustifyr
git_branch: devel
git_last_commit: 01ae82e
git_last_commit_date: 2024-10-29 10:43:29 -0500 (Tue, 29 Oct 2024)