Package: clusterProfiler
Version: 4.15.1
Maintainer: Guangchuang Yu
MaintainerEmail: guangchuangyu at gmail.com
git_url: https://git.bioconductor.org/packages/clusterProfiler
git_branch: devel
git_last_commit: 1aedd90
git_last_commit_date: 2024-11-29 09:35:31 -0500 (Fri, 29 Nov 2024)