Package: cliProfiler
Version: 1.13.0
Maintainer: You Zhou
MaintainerEmail: youzhoulearning at gmail.com
git_url: https://git.bioconductor.org/packages/cliProfiler
git_branch: devel
git_last_commit: bbef029
git_last_commit_date: 2024-10-29 11:05:20 -0500 (Tue, 29 Oct 2024)