Package: chromPlot
Version: 1.35.0
Command: /home/biocbuild/R/R/bin/R CMD check --install=check:chromPlot.install-out.txt --library=/home/biocbuild/R/R/site-library --no-vignettes --timings chromPlot_1.35.0.tar.gz
StartedAt: 2025-01-28 09:09:49 -0000 (Tue, 28 Jan 2025)
EndedAt: 2025-01-28 09:12:09 -0000 (Tue, 28 Jan 2025)
EllapsedTime: 140.1 seconds
RetCode: 0
Status: WARNINGS
CheckDir: chromPlot.Rcheck
Warnings: 5