Package: chromPlot Version: 1.35.0 Command: /home/biocbuild/R/R/bin/R CMD build --keep-empty-dirs --no-resave-data chromPlot StartedAt: 2025-01-28 21:50:22 -0000 (Tue, 28 Jan 2025) EndedAt: 2025-01-28 21:51:16 -0000 (Tue, 28 Jan 2025) EllapsedTime: 54.0 seconds RetCode: 0 Status: OK PackageFile: chromPlot_1.35.0.tar.gz PackageFileSize: 1.514 <A href="http://en.wikipedia.org/wiki/MiB" target="_blank">MiB</A>