Package: chromPlot Version: 1.35.0 Command: /Library/Frameworks/R.framework/Resources/bin/R CMD INSTALL chromPlot StartedAt: 2025-02-19 15:13:37 -0500 (Wed, 19 Feb 2025) EndedAt: 2025-02-19 15:13:43 -0500 (Wed, 19 Feb 2025) EllapsedTime: 6.1 seconds RetCode: 0 Status: OK