Package: chromPlot
Version: 1.35.0
Command: /Library/Frameworks/R.framework/Resources/bin/R CMD build --keep-empty-dirs --no-resave-data chromPlot
StartedAt: 2025-02-19 15:54:23 -0500 (Wed, 19 Feb 2025)
EndedAt: 2025-02-19 15:54:40 -0500 (Wed, 19 Feb 2025)
EllapsedTime: 16.2 seconds
RetCode: 0
Status: OK
PackageFile: chromPlot_1.35.0.tar.gz
PackageFileSize: 1.52 <A href="http://en.wikipedia.org/wiki/MiB" target="_blank">MiB</A>