Package: chromPlot Version: 1.35.0 Command: rm -rf chromPlot.buildbin-libdir && mkdir chromPlot.buildbin-libdir && /Users/biocbuild/BBS/utils/build-universal.sh chromPlot_1.35.0.tar.gz /Library/Frameworks/R.framework/Resources/bin/R chromPlot.buildbin-libdir StartedAt: 2025-02-19 22:16:55 -0500 (Wed, 19 Feb 2025) EndedAt: 2025-02-19 22:17:02 -0500 (Wed, 19 Feb 2025) EllapsedTime: 7.2 seconds RetCode: 0 Status: OK PackageFile: chromPlot_1.35.0.tgz PackageFileSize: 1.597 <A href="http://en.wikipedia.org/wiki/MiB" target="_blank">MiB</A>