Package: cghMCR
Version: 1.65.0
Maintainer: J. Zhang
MaintainerEmail: jzhang at jimmy.harvard.edu
git_url: https://git.bioconductor.org/packages/cghMCR
git_branch: devel
git_last_commit: 7280ca7
git_last_commit_date: 2024-10-29 09:26:16 -0500 (Tue, 29 Oct 2024)