Package: cellmigRation Version: 1.15.0 Command: E:\biocbuild\bbs-3.21-bioc\R\bin\R.exe CMD INSTALL cellmigRation StartedAt: 2025-02-04 16:41:20 -0500 (Tue, 04 Feb 2025) EndedAt: 2025-02-04 16:42:45 -0500 (Tue, 04 Feb 2025) EllapsedTime: 84.8 seconds RetCode: 0 Status: OK