Package: cellmigRation Version: 1.15.0 Command: chmod a+r cellmigRation -R && E:\biocbuild\bbs-3.21-bioc\R\bin\R.exe CMD build --keep-empty-dirs --no-resave-data cellmigRation StartedAt: 2025-02-04 17:40:51 -0500 (Tue, 04 Feb 2025) EndedAt: 2025-02-04 17:43:54 -0500 (Tue, 04 Feb 2025) EllapsedTime: 182.5 seconds RetCode: 0 Status: OK PackageFile: cellmigRation_1.15.0.tar.gz PackageFileSize: 928.2 KiB