Package: cellmigRation Version: 1.15.0 Command: /Library/Frameworks/R.framework/Resources/bin/R CMD INSTALL cellmigRation StartedAt: 2025-02-19 15:24:18 -0500 (Wed, 19 Feb 2025) EndedAt: 2025-02-19 15:24:24 -0500 (Wed, 19 Feb 2025) EllapsedTime: 5.6 seconds RetCode: 0 Status: OK