Package: cellmigRation Version: 1.15.0 Command: /Library/Frameworks/R.framework/Resources/bin/R CMD build --keep-empty-dirs --no-resave-data cellmigRation StartedAt: 2025-02-19 15:50:20 -0500 (Wed, 19 Feb 2025) EndedAt: 2025-02-19 15:51:04 -0500 (Wed, 19 Feb 2025) EllapsedTime: 44.5 seconds RetCode: 0 Status: OK PackageFile: cellmigRation_1.15.0.tar.gz PackageFileSize: 1.364 <A href="http://en.wikipedia.org/wiki/MiB" target="_blank">MiB</A>