Package: cellmigRation Version: 1.15.0 Command: rm -rf cellmigRation.buildbin-libdir && mkdir cellmigRation.buildbin-libdir && /Users/biocbuild/BBS/utils/build-universal.sh cellmigRation_1.15.0.tar.gz /Library/Frameworks/R.framework/Resources/bin/R cellmigRation.buildbin-libdir StartedAt: 2025-02-19 22:16:13 -0500 (Wed, 19 Feb 2025) EndedAt: 2025-02-19 22:16:20 -0500 (Wed, 19 Feb 2025) EllapsedTime: 7.1 seconds RetCode: 0 Status: OK PackageFile: cellmigRation_1.15.0.tgz PackageFileSize: 1.994 <A href="http://en.wikipedia.org/wiki/MiB" target="_blank">MiB</A>