Package: cellity
Version: 1.35.0
Maintainer: Tomislav Ilicic
MaintainerEmail: ti243 at cam.ac.uk
git_url: https://git.bioconductor.org/packages/cellity
git_branch: devel
git_last_commit: 614b66c
git_last_commit_date: 2024-10-29 10:07:36 -0500 (Tue, 29 Oct 2024)