Package: cageminer
Version: 1.13.0
Command: E:\biocbuild\bbs-3.21-bioc\R\bin\R.exe CMD INSTALL cageminer
StartedAt: 2025-02-19 16:51:25 -0500 (Wed, 19 Feb 2025)
EndedAt: 2025-02-19 16:52:37 -0500 (Wed, 19 Feb 2025)
EllapsedTime: 72.0 seconds
RetCode: 0
Status: OK