Package: cageminer Version: 1.13.0 Command: E:\biocbuild\bbs-3.21-bioc\R\bin\R.exe CMD check --no-multiarch --install=check:cageminer.install-out.txt --library=E:\biocbuild\bbs-3.21-bioc\R\library --no-vignettes --timings cageminer_1.13.0.tar.gz StartedAt: 2025-02-19 23:19:02 -0500 (Wed, 19 Feb 2025) EndedAt: 2025-02-19 23:27:50 -0500 (Wed, 19 Feb 2025) EllapsedTime: 528.4 seconds RetCode: 0 Status: OK CheckDir: cageminer.Rcheck Warnings: 0