Package: cageminer Version: 1.13.0 Command: chmod a+r cageminer -R && E:\biocbuild\bbs-3.21-bioc\R\bin\R.exe CMD build --keep-empty-dirs --no-resave-data cageminer StartedAt: 2025-02-19 17:39:09 -0500 (Wed, 19 Feb 2025) EndedAt: 2025-02-19 17:42:09 -0500 (Wed, 19 Feb 2025) EllapsedTime: 180.1 seconds RetCode: 0 Status: OK PackageFile: cageminer_1.13.0.tar.gz PackageFileSize: 879.5 <A href="http://en.wikipedia.org/wiki/KiB" target="_blank">KiB</A>