Package: cageminer
Version: 1.13.0
Command: rm -rf cageminer.buildbin-libdir && mkdir cageminer.buildbin-libdir && E:\biocbuild\bbs-3.21-bioc\R\bin\R.exe CMD INSTALL --build --library=cageminer.buildbin-libdir cageminer_1.13.0.tar.gz
StartedAt: 2025-02-20 07:24:47 -0500 (Thu, 20 Feb 2025)
EndedAt: 2025-02-20 07:25:53 -0500 (Thu, 20 Feb 2025)
EllapsedTime: 66.3 seconds
RetCode: 0
Status: OK
PackageFile: cageminer_1.13.0.zip
PackageFileSize: 915.7 <A href="http://en.wikipedia.org/wiki/KiB" target="_blank">KiB</A>