Package: cageminer Version: 1.13.0 Command: /Library/Frameworks/R.framework/Resources/bin/R CMD build --keep-empty-dirs --no-resave-data cageminer StartedAt: 2025-02-19 16:06:11 -0500 (Wed, 19 Feb 2025) EndedAt: 2025-02-19 16:08:31 -0500 (Wed, 19 Feb 2025) EllapsedTime: 139.4 seconds RetCode: 0 Status: OK PackageFile: cageminer_1.13.0.tar.gz PackageFileSize: 1.416 <A href="http://en.wikipedia.org/wiki/MiB" target="_blank">MiB</A>