Package: cageminer
Version: 1.13.0
Command: /home/biocbuild/R/R/bin/R CMD check --install=check:cageminer.install-out.txt --library=/home/biocbuild/R/R/site-library --no-vignettes --timings cageminer_1.13.0.tar.gz
StartedAt: 2025-01-28 08:52:50 -0000 (Tue, 28 Jan 2025)
EndedAt: 2025-01-28 09:02:05 -0000 (Tue, 28 Jan 2025)
EllapsedTime: 555.4 seconds
RetCode: 0
Status: WARNINGS
CheckDir: cageminer.Rcheck
Warnings: 5