Package: cageminer Version: 1.13.0 Command: /Library/Frameworks/R.framework/Resources/bin/R CMD build --keep-empty-dirs --no-resave-data cageminer StartedAt: 2025-02-19 15:46:40 -0500 (Wed, 19 Feb 2025) EndedAt: 2025-02-19 15:47:31 -0500 (Wed, 19 Feb 2025) EllapsedTime: 51.5 seconds RetCode: 0 Status: OK PackageFile: cageminer_1.13.0.tar.gz PackageFileSize: 1.417 <A href="http://en.wikipedia.org/wiki/MiB" target="_blank">MiB</A>