Package: cageminer Version: 1.13.0 Command: rm -rf cageminer.buildbin-libdir && mkdir cageminer.buildbin-libdir && /Users/biocbuild/BBS/utils/build-universal.sh cageminer_1.13.0.tar.gz /Library/Frameworks/R.framework/Resources/bin/R cageminer.buildbin-libdir StartedAt: 2025-02-19 22:15:42 -0500 (Wed, 19 Feb 2025) EndedAt: 2025-02-19 22:16:06 -0500 (Wed, 19 Feb 2025) EllapsedTime: 24.5 seconds RetCode: 0 Status: OK PackageFile: cageminer_1.13.0.tgz PackageFileSize: 1.45 <A href="http://en.wikipedia.org/wiki/MiB" target="_blank">MiB</A>