Package: bnbc Version: 1.29.0 Command: /Library/Frameworks/R.framework/Resources/bin/R CMD INSTALL bnbc StartedAt: 2025-01-31 15:20:16 -0500 (Fri, 31 Jan 2025) EndedAt: 2025-01-31 15:20:33 -0500 (Fri, 31 Jan 2025) EllapsedTime: 16.4 seconds RetCode: 0 Status: OK