Package: bnbc Version: 1.29.0 Command: /Library/Frameworks/R.framework/Resources/bin/R CMD build --keep-empty-dirs --no-resave-data bnbc StartedAt: 2025-01-31 15:44:06 -0500 (Fri, 31 Jan 2025) EndedAt: 2025-01-31 15:44:38 -0500 (Fri, 31 Jan 2025) EllapsedTime: 32.3 seconds RetCode: 0 Status: OK PackageFile: bnbc_1.29.0.tar.gz PackageFileSize: 4.152 MiB