Package: bnbc Version: 1.29.0 Command: rm -rf bnbc.buildbin-libdir && mkdir bnbc.buildbin-libdir && /Users/biocbuild/BBS/utils/build-universal.sh bnbc_1.29.0.tar.gz /Library/Frameworks/R.framework/Resources/bin/R bnbc.buildbin-libdir StartedAt: 2025-01-31 22:09:45 -0500 (Fri, 31 Jan 2025) EndedAt: 2025-01-31 22:10:03 -0500 (Fri, 31 Jan 2025) EllapsedTime: 18.4 seconds RetCode: 0 Status: OK PackageFile: bnbc_1.29.0.tgz PackageFileSize: 4.565 MiB